Workbook
Name CL: 'C'!$B$2:$B$250
Name LN: L!$D$1:$M$1
Name Metal: 'Smelter List'!$W$3:$Z$3
Name MetalSmelter: 'Smelter Look-up'!#REF!
Name SL: Declaration!$P$3
Name SmelterID: 'Smelter Look-up'!#REF!
Name SmelterIdetifiedForMetal: 'Smelter List'!$B$5:$B$2491
Name SN: OFFSET('Smelter Look-up'!$B$4,MATCH(!$B1,'Smelter Look-up'!$A:$A,0)-4,0,COUNTIF('Smelter Look-up'!$A:$A,!$B1),1)
Name Z_51531B83_BDD7_4890_A744_04812A317369_.wvu.Cols: Checker!$E:$M
Name Z_51531B83_BDD7_4890_A744_04812A317369_.wvu.Cols: Declaration!$L:$W
Name Z_51531B83_BDD7_4890_A744_04812A317369_.wvu.Cols: 'Smelter List'!$R:$AM
Name Z_51531B83_BDD7_4890_A744_04812A317369_.wvu.Cols: 'Smelter Look-up'!#REF!
Name Z_51531B83_BDD7_4890_A744_04812A317369_.wvu.PrintArea: Declaration!$A$1:$L$92
Name Z_51531B83_BDD7_4890_A744_04812A317369_.wvu.PrintTitles: Declaration!$1:$6
Name Z_51531B83_BDD7_4890_A744_04812A317369_.wvu.PrintTitles: 'Product List'!$5:$5
Name Z_51531B83_BDD7_4890_A744_04812A317369_.wvu.PrintTitles: 'Smelter List'!$4:$4
Name Z_51531B83_BDD7_4890_A744_04812A317369_.wvu.Rows: Checker!$61:$61
Name Z_51531B83_BDD7_4890_A744_04812A317369_.wvu.Rows: Declaration!$94:$109
Name Z_81CF54B1_70AB_4A68_BB72_21925B5D4874_.wvu.Cols: Declaration!$M:$U
Name Z_81CF54B1_70AB_4A68_BB72_21925B5D4874_.wvu.Cols: Definitions!#REF!
Name Z_81CF54B1_70AB_4A68_BB72_21925B5D4874_.wvu.Cols: Instructions!#REF!
Name Z_81CF54B1_70AB_4A68_BB72_21925B5D4874_.wvu.Cols: 'Smelter List'!$V:$Y

Sheet Revision
B2: DOCUMENT TITLE
B3: Conflict Minerals Reporting Template
B4: SHEET
B5: 1 of 8
B9: REVISION HISTORY
B10: A change in the first digit of the revision number (e.g., 1.0 to 2.0) signifies a set of major improvements have occurred which will likely include different data reporting requirements. Changes to the first or second decimal place (e.g., “2.01” to “2.02”) indicate only minor changes have been made to the template which are not expected to result in substantial changes to the data being reported. The addition of a letter (e.g., “a”, or “b”, or “c”) following the revision number indicate that only the standard smelter list has been updated from the prior version.
B12: REVISION | C12: ORIGINATOR | D12: RELEASE DATE | E12: DESCRIPTION OF FUNCTIONAL CHANGE | F12: UPDATES TO SMELTER LIST
B13: 1 | C13: Jared Connors, Intel | D13: July 19th, 2011 | E13: New Release
B14: 2 | C14: Jared Connors, Intel | D14: Aug 29th, 2012 | E14: Major update to functionality including: addition of the known smelter list, addition of declaration scope including product tab, and added and modified multiple questions and / or their responses. | F14: New.
B15: 2.01 | C15: Jared Connors, Intel | D15: Dec 21st, 2012 | E15: List of changes to the template functionality: 1. Modified Smelter List tab to prevent smelter rows from wrapping text. This was being caused by the hidden formula in column A which allows for a software vendor to easily grab the smelter IDs. 2. Changed protection settings on the Smelter List tab to allow users to delete rows. This allows users to delete rows with incorrect entries within the smelter tab. Ensured that columns could not be mistakenly deleted in the process. | F15: 1. Added “CV DS Jaya Abadi” an alias to “PT Stanindo Inti Perkasa” 2. Added “Mentok” as an alias to “PT Tambang Timah” 3. Corrected spelling of "Duoluoshan" id # 3CHN001 4. Corrected spelling of "Mitsubishi Materials Corporation" id # 1JPN039 5. Changed “Gejiu Non-ferrous” to its proper name “Geiju Non-Ferrous Metal Processing Co. Ltd.” 6. Changed “Mitsubishi Material” to its proper name “Mitsubishi Materials Corporation” 7. Changed “Niotan” to “Kemet Blue Powder” 8. Added “Nihon Material Co. LTD” as a gold refiner 9. Added “Aida Chemical Industries Co. Ltd.” as a gold refiner 10. Added “Asaka Riken Co Ltd” as a gold refiner
F16: 11. Added “Kojima Chemical” as a gold refiner 12. Added “Sabin” as a gold refiner 13. Added “United Precious Metal Refining Inc.” as a gold refiner 14. Added “Yokohama Metal Co Ltd” as a gold refiner 15. Added “CNMC (Guangxi) PGMA Co., Ltd.” as a tin refiner 16. Added “Conghua Tantalum and Niobium Smeltry” as a tantalum refiner 17. Removed “Tantalite Resources” as a refinery 18. Added “Minmetals Ganzhou Tin Co. Ltd.” as a tin refinery 19. Updated “ATI Metalworking Products” to its proper full name “ATI Tungsten Materials” 20. Updated “China Minmetals Corp.” to its proper full name “China Minmetals Nonferrous Metals Co Ltd”
F17: 21. Removed “Ganzhou Huaxing Tungsten” as a smelter 22. Removed “Ganzhou Nonferrous Metals Smelting Co Ltd.” as a smelter 23. Removed “Sichuan Metals & Materials Imp & Exp Co as a tungsten smelter 24. Added “Ganzhou Grand Sea W & Mo Group Co., Ltd.” as a tungsten smelter 25. Added “Hunan Chenzhou Mining Group Co” as a tungsten smelter 26. Added “Japan New Metals Co Ltd” as a tungsten smelter 27. Added “Zhuzhou Cemented Carbide Group Co Ltd” as a tungsten smelter
B18: 2.02 | C18: Jared Connors, Intel | D18: March 29th, 2013 | E18: 1. Added new selection to the metals dropdown lists of smelter list tab “Smelter not yet identified” 2. Moved “smelter not listed” to the bottom of each metals dropdown list 3. Fixed error in Checker sheet to eliminate display of text “one or more smelters have been added to smelter list” when rows are deleted 4. Rewrite of T&Cs 5. Adding Italian translation 6. Allow for deletion of rows in Smelter List tab 7. Removed hover over text in column C of Smelter List tab 8. Inserted additional rows for data entry on the Smelter List tab up to 2,500 rows 9. Made smelter ID numbers visible in Smelter List tab 10. Made template revision history tab visible | F18: 1. Added the following aliases to Ohio Precious Metals “OPM Metals”, “USPM”, “United States Precious Metals” 2. Added “ALMT” as tungsten smelter 3. Added “Suzhou Xingrui Noble” as gold smelter 4. Added “Shangdong Zhaojin Group” as an alias of “Shandong Zhaojin Gold & Silver Refinery Co., Ltd” 5. Added “Shandong Zhaoyuan Gold Argentine refining company limited” as an alias of “Zhongyuan Gold Smelter of Zhongjin Gold Corporation” 6. Added “SEMPSA” as an alias for “SEMPSA Joyeria Plateria SA” 7. Added “Umicore Brazil Ltd” as an alias for “Umicore Brasil Ltda” 8. Added “Pan Pacific Copper Co., LTD.” as a gold smelter 9. Added “White Solder Metalurgia” as a tin smelter 10. Added “JiuJiang JinXin Nonferrous Metals Co. Ltd.” as a tantalum smelter
E19: 11. Removed language selection from individual tabs, all controlled on Declaration tab 12. Updated template to prevent users from adding tabs to the worksheet 13. Added statement at the top of the revision history tab clarifying purpose of .0x revision updates | F19: 11. Corrected spelling of “jiujiang Tanbre” to “JiuJiang Tambre Co. Ltd.” 12. Added Torecom as a gold smelter 15. Added “PT Tinindo Internusa” as alias of “PT Tinindo Inter Nusa” 16. Added “CV Jus Tindo” as alias of “CV JusTindo” 17. Added “PT Bellitin Makmur Lestari” and “BML” as alias of “PT BilliTin Makmur Lestari” 18. Added “Liuzhou China Tin Group Co., Ltd.” as alias of “Liuzhou China Tin” 19. Added “PT Timah (Persero) TBK” and “Banka Tin” as alias of “PT Tambang Timah” 20. Added “Yun Nan Tin Co.,LTD” as alias of “Yunnan Tin Company Limited”
F20: 21. Added “GEJIU ZILI MINING&SMELTING CO.,LTD.” as alias of “Gejiu Zi-Li” 22. Added “Jiangxi Tungsten Co Ltd” as alias of “Jiangxi Tungsten Industry Group Co Ltd” 23. Added “Linwu Xianggui” as a tin smelter 24. Added "IMLI" and “Indra Eramulti Logam” as aliases of “PT Bukit Timah” 25. Added “CV Gita Pesona” as tin smelter 26. Added “PT Tommy Utama” as tin smelter 27. Added “PT Bangka Tin Industry” as tin smelter 28. Added “PT DS Jaya Abadi” as tin smelter 29. Added “PT Panca Mega” as tin smelter 30. Added “PT Seirama Tin investment” as tin smelter
F21: 31. Added “PT Karimun Mining” as tin smelter 32. Added “Cooper Santa” as tin smelter 33. Added “Daejin Indus Co. Ltd” as gold smelter 34. Added “DaeryongENC” as gold smelter 35. Added “Do Sung Corporation” as gold smelter 36. Added “Hwasung CJ Co. Ltd” as gold smelter 37. Added “Korea Metal” as gold smelter 38. Added “SAMWON METALS Corp.” as gold smelter
B22: 2.03 | C22: Akimasa Yamakawa, JEITA / John Plyler, BlackBerry | D22: July 12th, 2013 | E22: 1. Resolved Excel 2003 incompatibility with programming for multiple languages. 2. Minor corrections to row number references in the instructions. 3. Added translation on checker sheet for the Column Name “Hyperlink to Source” 4. Corrected Japanese translation of "authorized representative" and "representative" on Declaration worksheet. 5. Adjusted row spacing of misc cells to allow for different lengths of translated text and comments. 6. Removed the symbols for the metals on the standard smelter list (e.g., "Sn"). 7. Deleted text "If no for all metals, you are done with this survey." from question 1 on the Declaration worksheet. | F22: 1. Added “Fujian Jinxin Tungsten Co., Ltd.” as tungsten refiner 2. Added “Dayu Weiliang Tungsten Co., Ltd.” as tungsten refiner 3. Added “Xinhai Rendan Shaoguan Tungsten Co., Ltd.” as tungsten refiner 4. Added “Hunan Chun-Chang Nonferrous Smelting & Concentrating Co., Ltd.” as tungsten refiner 5. Added “Jiangxi Minmetals Gao'an Non-ferrous Metals Co., Ltd.” as tungsten refiner 6. Corrected the spelling of "Allydne" to "Alldyne" 7. Corrected the spelling of "Allydne Powder Technologies" to "Alldyne Powder Technologies" 8. Corrected the spelling of "Korea Metal" to "Korea Metal Co. Ltd" 9. Added "LMS Brasil S.A." as tantalum smelter 10. Added "QuantumClean" as tantalum smelter
F23: 11. Added "Taki Chemicals" as tantalum smelter 12. Added "Tantalite Resources" as tantalum smelter 13. Corrected naming inconsistency of “Ohio Precious Metals LLC.” on standard smelter list and alias table. 14. Corrected naming inconsistency of “The Refinery of Shandong Gold Mining Co., Ltd” on standard smelter list and alias table. 15. Added "Molycorp Silmet" as tantalum smelter 16. Added "King-Tan Tantalum Industry Ltd" as tantalum smelter 17. Added "CooperMetal" as an alias of "Coopersanta" 18. Corrected the spelling of "Malaysia Smelting Corp" to "Malaysia Smelting Corporation (MSC)" 19. Corrected the spelling of "Asahi Pretec Corp" to "Asahi Pretec Corporation" 20. Corrected the spelling of "United Precious Metal Refining Inc." to “United Precious Metal Refining, Inc.”
F24: 21. Added "Fenix Metals" as tin smelter 22. Changed alias “Bangka Tin” from “PT Tambang Timah” to “PT Timah” 23. Added “Ketapang” as an alias of “PT Bangka Putra Karya” 24. Corrected the Smelter ID of Cooper Santa from “2IDN063” to “2BRA063” 25. Added "Kundur" as an alias of “PT Tambang Timah” 26. Added “TT” as an alias of “PT Tambang Timah” 27. Added "CooperMetal" as an alias of "Coopersanta" 28. Corrected spelling of “CV Prima Timah Utama” to “PT Prima Timah Utama”.
B25: 2.03a | C25: John Plyler, BlackBerry | D25: July 25th, 2013 | E25: No functional change. | F25: 1. Corrected the spelling of "ALMT" to "A.L.M.T. Corp." 2. Added "A.L.M.T. Tungsten Corp", "Allied Material Corp", and "ALMT" as aliases of "A.L.M.T. Corp." 3. Corrected country of "A.L.M.T. Corp." to "Japan" and smelter ID to "4JPN020" 4. Changed alias "Wolfram" for "Wolfram Company CJSC" to "Wolfram [Russia]" 5. Added "Wolfram [Austria]" as an alias of "Wolfram Bergbau und Hütten AG" 6. Added "Kennametal Inc." as a tungsten refiner 7. Added "Kennametal" as an alias of "Kennametal Inc."
B26: 3 | C26: Akimasa Yamakawa, JEITA, and John Plyler, BlackBerry, under the direction of the CFSI Due Diligence Workgroup | D26: April 9th, 2014 | E26: Major update to synchronize the CFSI CMRT with the data fields in the newly published IPC-1755 Standard. Changes include: 1. Addition of new company information fields. 2. Two additional due diligence questions and removal of one. 3. Minor changes to question text throughout. 4. Expansion of instructions and definitions. 5. Updated translations of all modified text. | F26: Added the following gold refiners: 1. Bauer Walser AG 2. C. Hafner GmbH + Co. KG 3. China National Gold Group Corporation 4. Colt Refining 5. Daye Non-Ferrous Metals Mining Ltd. 6. Doduco 7. Eco-System Recycling Co., Ltd. 8. Gansu Seemine Material Hi-Tech Co Ltd 9. Guangdong Jinding Gold Limited 10. Hangzhou Fuchunjiang Smelting Co., Ltd.
F27: 11. Hunan Chenzhou Mining Industry Group 12. Kennecott Utah Copper LLC 13. Lingbao Jinyuan Tonghui Refinery Co. Ltd. 14. Luoyang Zijin Yinhui Metal Smelt Co Ltd 15. Metalor Technologies (Singapore) Pte. Ltd. 16. Ohura Precious Metal Industry Co., Ltd 17. Penglai Penggang Gold Industry Co Ltd 18. So Accurate Group, Inc. 19. Tongling nonferrous Metals Group Co.,Ltd 20. Umicore Precious Metals Thailand
F28: 21. YAMAMOTO PRECIOUS METAL CO., LTD. 22. Yunnan Copper Industry Co Ltd
F29: Added the following tantalum smelters: 1. Changsha South Tantalum Niobium Co Ltd 2. Guangdong Zhiyuan New Material Co., Ltd. 3. Hengyang King Xing Lifeng New Materials Co., LTD 4. Metallurgical Products India (Pvt.) Ltd. 5. Mineração Taboca S.A. 6. Shanghai Jiangxi Metals Co. Ltd 7. Yichun Jin Yang Rare Metal Co., Ltd
F30: Added the following tin smelters: 1. China Rare Metal Materials Company 2. Estanho de Rondônia S.A. 3. Magnu's Minerais Metais e Ligas LTDA 4. O.M. Manufacturing (Thailand) Co., Ltd. 5. Rui Da Hung 6. Soft Metais Ltda.
F31: Added the following tungsten refiners: 1. Ganzhou Jiangwu Ferrotungsten Co., Ltd. 2. Jiangxi Gan Bei Tungsten Co., Ltd. 3. Jiangxi Richsea New Materials Co., Ltd. 4. Jiangxi Tonggu Non-ferrous Metallurgical & Chemical Co., Ltd. 5. Jiangxi Xinsheng Tungsten Industry Co., Ltd. 6. Jiangxi Yaosheng Tungsten Co., Ltd. 7. Malipo Haiyu Tungsten Co., Ltd. 8. Xiamen Tungsten (H.C.) Co., Ltd.
F32: Removed the following as gold refiners: 1. Central Bank of the DPR of Korea 2.Codelco 3. Suzhou Xingrui Noble Removed "Gannon & Scott" as a tantalum smelter
F33: Removed the following as tin smelters: 1. CV Duta Putra Bangka 2. CV Gita Pesona 3. CV JusTindo 4. CV Makmur Jaya 5. CV Nurjanah 6. Gold Bell Group 7. PT Alam Lestari Kencana 8. PT Babel Surya Alam Lestari 9. PT Bangka Kudai Tin 10. PT Bangka Timah Utama Sejahtera
F34: 11. PT BilliTin Makmur Lestari 12. PT Fang Di MulTindo 13. PT HP Metals Indonesia 14. PT Koba Tin 15. PT Panca Mega 16. PT Seirama Tin investment 17. PT Sumber Jaya Indah 18. PT Timah Nusantara 19. PT Tommy Utama 20. PT Yinchendo Mining Industry
F35: Removed the following as tungsten refiners: 1. China Minmetals Nonferrous Metals Co Ltd 2. Ganzhou Grand Sea W & Mo Group Co Ltd
F36: Changed numerous Standard Smelter Names, including: 1. "Pan Pacific Copper Co. LTD" to "JX Nippon Mining & Metals Co., Ltd" 2. "Xstrata Canada Corporation" to "CCR Refinery – Glencore Canada Corporation" 3. "PT Refined Banka Tin" to "PT Refined Bangka Tin" 4. "ATI Tungsten Materials" to "Kennametal Huntsville" 5. "Jiangxi Rare Earth & Rare Metals Tungsten Group Corp" to "Ganzhou Non-ferrous Metals Smelting Co., Ltd." 6. "Kennametal Inc." to "Kennametal Fallon" 7. "Chaozhou Xianglu Tungsten Industry Co Ltd" to "Guangdong Xianglu Tungsten Industry Co., Ltd." Changed numerous "Alias" names of smelters and refiners.
B37: 3.01 | C37: Akimasa Yamakawa, JEITA, and John Plyler, BlackBerry, under the direction of the CFSI Due Diligence Workgroup | D37: May 30th, 2014 | E37: 1. Removed the ability to overwrite the “Declaration Scope or Class” field. Users are restricted to only use the drop-down options. 2. Addressed issue with Checker incorrectly showing “Description of Scope” as missing data when a user selects “B. Product (or List of Products)” as the Declaration Scope. 3. Programmed Checker to show missing data when response to question B is "Yes", unless a url is entered the corresponding "Comments" field. | F37: 1. Added the tin smelter "Melt Metais e Ligas S/A" 2. Added the tungsten refiner "Vietnam Youngsun Tungsten Industry Co., Ltd" 3. Corrected the name of tin smelter "Liuzhou China Tin" to "China Tin Group Co., Ltd." 4. Corrected the name of tin smelter "PT Timah" to "PT Timah (Persero), Tbk"
B38: 3.02 | C38: John Plyler, BlackBerry, under the direction of the CFSI Due Diligence Data Collection Workgroup | D38: Nov 7th, 2014 | E38: 1. Revisions to the German language translation throughout. 2. Correction of the Japanese language translation for Question 4 on the Declaration worksheet. | F38: This version incorporates numerous changes to the smelter list as reflected in the Standard Smelter List as of November 7, 2014. The latest version of the Standard Smelter List is available at: http://www.conflictfreesourcing.org.
B39: 4 | C39: CFSI Due Diligence Data Collection Workgroup | D39: Apr 30th, 2015 | E39: Replaced the Standard Smelter Names tab with the Smelter Reference List tab, displaying common alternate names for smelters as well as location information. Major update to synchronize the CFSI CMRT with the data fields in the newly revised IPC-1755 Standard. Changes include: 1. Changes to question text throughout. 2.Expansion of instructions and definitions. 3. Updated translations of all modified text. | F39: This version incorporates numerous changes to the smelter list as reflected in the Standard Smelter List as of April 17, 2015. The latest version of the Standard Smelter List is available at: http://www.conflictfreesourcing.org.
B40: 4.01 | C40: CFSI Due Diligence Data Collection Workgroup | D40: June 12th, 2015 | E40: Minor revisions to correct reported issues including those related to error checking on the "Checker" and “Smelter List” tabs. | F40: This version incorporates a few changes to the smelter list as reflected in the Standard Smelter List as of June 12, 2015. The latest version of the Standard Smelter List is available at: http://www.conflictfreesourcing.org.
B41: 4.01a | C41: CFSI Due Diligence Data Collection Workgroup | D41: August 6th, 2015 | E41: No functional change. Elemetal CID corrected to read CID001322. | F41: This version incorporates a few changes to the smelter list as reflected in the Standard Smelter List as of August 5, 2015. The latest version of the Standard Smelter List is available at: http://www.conflictfreesourcing.org.
B42: 4.01b | C42: CFSI Due Diligence Data Collection Workgroup | D42: November 16th, 2015 | E42: No functional change. | F42: This version incorporates a few changes to the smelter list as reflected in the Standard Smelter List as of November 6, 2015. The latest version of the Standard Smelter List is available at: http://www.conflictfreesourcing.org.
B43: 4.1 | C43: CFSI CMRT Team | D43: 42867 | E43: 1. Corrections to all bugs and errors 2. Enhancements which do not conflict with IPC-1755 a. Additions and clarifications in the instructions and definitions b. Smelter List Tab: Re-introduction of “smelter not yet identified” c. Smelter List Tab: Inclusion of drop down menu for smelter ID that triggers auto-population of columns B to J 3. Translation improvements and addition of Turkish language 4. Updates to the Smelter Reference List and Standard Smelter List a. Updated lists and corrections b. ASCII character set alignment | F43: This version incorporates a few changes to the smelter list as reflected in the Standard Smelter List as of March 23, 2016. The latest version of the Standard Smelter List is available at: http://www.conflictfreesourcing.org.
B44: 4.2 | C44: CFSI CMRT Team | D44: 42704 | E44: 1. Corrections to all bugs and errors 2. Enhancements which do not conflict with IPC-1755 a. Additions and clarifications in the instructions and definitions b. Update to ISO short names for countries 3. Translation improvements 4. Updates to the Smelter Reference List and Standard Smelter List | F44: This version incorporates a few changes to the smelter list as reflected in the Standard Smelter List as of October 6, 2016. The latest version of the Standard Smelter List is available at: http://www.conflictfreesourcing.org/conflict-free-smelter-program/exports/cmrt-export/.
B45: 5 | C45: CFSI CMRT Team | D45: 42867 | E45: 1. Corrections to all bugs and errors 2. Conformance to IPC-1755 in the wording of the following questions: Q. 1, Q. 2, Q. 5, A, F, I (formerly J); removal of former question G a. Additions and clarifications in the instructions and definitions b. Update to ISO short names for countries 3. Conformance to IPC-1755 use of ASCII character set for Standard Smelter Name in hidden column R on the smelter list 4. Addition of ISO Country Codes and State/Province Codes in hidden columns S and T on the smelter list 5. Renaming of "Smelter Reference List" to "Smelter Look-up" 6. Updates to translations for all modified text 7. Updates to the Smelter Look-up List and Standard Smelter List | F45: This version incorporates a few changes to the smelter list as reflected in the Standard Smelter List as of March 17, 2017. The latest version of the Standard Smelter List is available at: http://www.conflictfreesourcing.org/conflict-free-smelter-program/exports/cmrt-export/.
...

Sheet Instructions
A1: =OFFSET(L!$C$1,MATCH("Instructions"&ADDRESS(ROW(),COLUMN(),4),L!$A:$A,0)-1,SL,,) -> Site Internet du RMI: (www.responsiblemineralsinitiative.org) Formations, recommandations, modèles, liste des fonderies conformes au programme fonderie sans conflit
A2: =OFFSET(L!$C$1,MATCH("Instructions"&ADDRESS(ROW(),COLUMN(),4),L!$A:$A,0)-1,SL,,) -> Introduction
A3: =OFFSET(L!$C$1,MATCH("Instructions"&ADDRESS(ROW(),COLUMN(),4),L!$A:$A,0)-1,SL,,) -> Ce modèle de rapport sur les minerais de conflit (le modèle) est un modèle de rapport standardisé gratuit créé par la Responsible Business Alliance® (RBA®). Ce modèle facilite le transfert d’informations à travers la chaîne d’approvisionnement sur le pays d’origine du minerai et les fonderies et affineries utilisées, et soutient la conformité à la législation*. Ce modèle facilite également l’identification de nouvelles fonderies et affineries susceptibles de faire l’objet d’un audit via le programme des fonderies hors conflits (Responsible Minerals Assurance Process)**. Le CMRT a été conçu pour que les sociétés en aval divulguent des informations sur leurs chaînes d’approvisionnement jusqu’à la fonderie, sans toutefois inclure cette dernière. Si vous exploitez une fonderie ou une affinerie 3TG, conformément aux protocoles RMAP, nous vous recommandons de saisir votre propre nom à l’onglet de la liste des fonderies. Lorsque vous remplirez le formulaire, veillez à ce qu’aucune des entrées dans les cellules ne commence par « = » ou « #. »
A4: =OFFSET(L!$C$1,MATCH("Instructions"&ADDRESS(ROW(),COLUMN(),4),L!$A:$A,0)-1,SL,,) -> * En 2010, la loi américaine Dodd-Frank sur la réforme de Wall Street et la protection des consommateurs a été adoptée concernant les « minerais issus de conflits » provenant de la République Démocratique du Congo (RDC) ou des pays voisins. La SEC a publié les règles finales associées à la divulgation de l’origine des minerais issus de conflits par des entreprises américaines cotées en bourse (voir les règles sur le site http://www.sec.gov/rules/final/2012/34-67716.pdf). Les règles font référence aux directives de diligence raisonnable de l’OCDE pour un approvisionnement responsable en minéraux dans les zones touchées par des conflits et à haut risque, (http://www.oecd.org/daf/inv/mne/GuidanceEdition2.pdf), qui guident les fournisseurs pour l’établissement des politiques, des cadres de diligence raisonnable et des systèmes de gestion. En 2017, le Règlement (UE) 2017/821 du Parlement européen et du Conseil européen du 17 mai 2017 a été adopté concernant les obligations de diligence raisonnable de la chaîne d’approvisionnement pour les importateurs d’étain, de tantale et de tungstène de l’Union, de leurs minéraux et de l’or, en provenance des zones touchées par des conflits et à haut risque (voir la réglementation à l’adresse https://eur-lex.europa.eu/legal-content/EN/TXT/PDF/?uri=OJ:L:2017:130:FULL&from=EN) ** Voir les informations sur la Responsible Minerals Initiative (Initiative pour les minerais responsables) (www.responsiblemineralsinitiative.org).
A6: =OFFSET(L!$C$1,MATCH("Instructions"&ADDRESS(ROW(),COLUMN(),4),L!$A:$A,0)-1,SL,,) -> Instructions pour compléter les informations relatives à votre entreprise (lignes 8 - 22). Merci de répondre en anglais uniquement.
A7: =OFFSET(L!$C$1,MATCH("Instructions"&ADDRESS(ROW(),COLUMN(),4),L!$A:$A,0)-1,SL,,) -> Remarque : les astérisques (*) marquent des champs obligatoires
A8: =OFFSET(L!$C$1,MATCH("Instructions"&ADDRESS(ROW(),COLUMN(),4),L!$A:$A,0)-1,SL,,) -> 1. Insérez la dénomination sociale de votre société. Merci de ne pas utiliser d’abréviations. Dans ce champ, vous avez la possibilité d’ajouter d’autres noms commerciaux, raisons sociales, etc.
A9: =OFFSET(L!$C$1,MATCH("Instructions"&ADDRESS(ROW(),COLUMN(),4),L!$A:$A,0)-1,SL,,) -> 2. Sélectionnez la portée de la déclaration de votre société. Les options de portée sont les suivantes : A. Pour l’ensemble de la société B. Produit (ou liste de produits) C. définie par l’utilisateur pour l’option « pour l’ensemble de la société », la déclaration englobe la totalité des produits de la société ou substances du produit fabriqué par la société mère. Si l’utilisateur déclare des données concernant des minerais de conflit à l’échelle de la société, il déclarera les données des minerais de conflit sur tous les produits qu’il fabrique. Pour la sélection de la portée du produit (ou de la liste de produits), un lien vers l’onglet de la feuille de travail de liste des produits sera affiché. Si cette portée est sélectionnée, il est obligatoire de mentionner le numéro de produit du répondant pour les produits couverts par cette déclaration dans la colonne B de la feuille de travail de liste des produits. Il n’est pas obligatoire de mentionner le nom de produits du répondant dans la colonne C de la feuille de travail de liste de produits. En sélectionnant la portée « définie par l’utilisateur », l’utilisateur doit décrire la portée applicable à la déclaration de métaux de conflit. La catégorie définie par l’utilisateur permet à un utilisateur de décrire la portée applicable à la déclaration de minerais de conflit. La portée de cette catégorie doit être définie dans une case de saisie, comme convenu entre le fournisseur et le demandeur. Cette déclaration peut s’appliquer à une division particulière de la société ou à une catégorie de produits. Une catégorie de produits est un groupe de produits qui peut être décrit par un terme générique reconnu à l’échelle sectorielle (par ex. les condensateurs). En utilisant cette catégorie, l’utilisateur fournira des réponses à la liste de demandes pour chacun des 3TG utilisés dans les produits de la catégorie définie par l’utilisateur. Ce champ est obligatoire.
A10: =OFFSET(L!$C$1,MATCH("Instructions"&ADDRESS(ROW(),COLUMN(),4),L!$A:$A,0)-1,SL,,) -> 3. Indiquer un identifiant unique de votre entreprise (numéro DUNS, numéro TVA, etc…)
A11: =OFFSET(L!$C$1,MATCH("Instructions"&ADDRESS(ROW(),COLUMN(),4),L!$A:$A,0)-1,SL,,) -> 4. Indiquer le type d'identifiant utilisé (numéro DUNS, numéro TVA, etc…)
A12: =OFFSET(L!$C$1,MATCH("Instructions"&ADDRESS(ROW(),COLUMN(),4),L!$A:$A,0)-1,SL,,) -> 5. Indiquer l’adresse complète de votre entreprise (rue, ville, pays, code postal,…). Ce champ est optionnel.
A13: =OFFSET(L!$C$1,MATCH("Instructions"&ADDRESS(ROW(),COLUMN(),4),L!$A:$A,0)-1,SL,,) -> 6. Indiquer le nom de la personne à contacter concernant le contenu de votre déclaration. Ce champ est obligatoire.
... A73: =OFFSET(L!$C$1,MATCH("Instructions"&ADDRESS(ROW(),COLUMN(),4),L!$A:$A,0)-1,SL,,) -> Si toute ou partie des dispositions de ces Conditions Générales est invalide ou inapplicable en vertu du droit en vigueur, cette partie des dispositions sera jugée sans effet, sans affecter d'aucune façon les parties restantes de ladite disposition ou les autres dispositions de ces Conditions Générales
A75: =OFFSET(L!$C$1,MATCH("General"&"Cpy",L!$A:$A,0)-1,SL,,) -> © 2025 Responsible Minerals Initiative. All rights reserved.
A76: Return to declaration tab
A77: Revision 6.5 April 25, 2025

Sheet Definitions
B2: =OFFSET(L!$C$1,MATCH("Definitions"&ADDRESS(ROW(),COLUMN(),4),L!$A:$A,0)-1,SL,,) -> ITEM | C2: =OFFSET(L!$C$1,MATCH("Definitions"&ADDRESS(ROW(),COLUMN(),4),L!$A:$A,0)-1,SL,,) -> DEFINITION
B3: =OFFSET(L!$C$1,MATCH("Definitions"&ADDRESS(ROW(),COLUMN(),4),L!$A:$A,0)-1,SL,,) -> 3TG | C3: =OFFSET(L!$C$1,MATCH("Definitions"&ADDRESS(ROW(),COLUMN(),4),L!$A:$A,0)-1,SL,,) -> Tantale, étain, tungstène, or
B4: =OFFSET(L!$C$1,MATCH("Definitions"&ADDRESS(ROW(),COLUMN(),4),L!$A:$A,0)-1,SL,,) -> Personne responsable | C4: =OFFSET(L!$C$1,MATCH("Definitions"&ADDRESS(ROW(),COLUMN(),4),L!$A:$A,0)-1,SL,,) -> Ce champ indique la personne responsable du contenu de la déclaration. La personne responsable peut être différente du contact. Il n'est pas autorisé d'utiliser le mot''identique'' ou équivalent au lieu de fournir le nom de la personne responsable.
B5: =OFFSET(L!$C$1,MATCH("Definitions"&ADDRESS(ROW(),COLUMN(),4),L!$A:$A,0)-1,SL,,) -> Zone touchée par des conflits et à haut risque (CAHRA) | C5: =OFFSET(L!$C$1,MATCH("Definitions"&ADDRESS(ROW(),COLUMN(),4),L!$A:$A,0)-1,SL,,) -> Les zones de conflit et à haut risque sont les zones en état de conflit armé, les zones fragiles post-conflit, ainsi que les zones où la gouvernance et la sécurité sont faibles ou inexistantes, comme les États défaillants et les violations généralisées et systématiques du droit international. , y compris les violations des droits de l'homme.
B6: =OFFSET(L!$C$1,MATCH("Definitions"&ADDRESS(ROW(),COLUMN(),4),L!$A:$A,0)-1,SL,,) -> Minerai de conflit | C6: =OFFSET(L!$C$1,MATCH("Definitions"&ADDRESS(ROW(),COLUMN(),4),L!$A:$A,0)-1,SL,,) -> Comme défini dans le "Dodd–Frank Wall Street Reform and Consumer Protection Act", Section 1502(e)(4), loi des Etats-Unis d'Amérique de 2010: MINERAI DE CONFLIT. - le terme "minerai de conflit" signifie: (A)columbite-tantalite (coltan), cassiterite, or, wolframite ou leur dérivés; ou (B) tout autre minerai ou ses dérivés déterminé par le Secrétaire d'Etat comme finançant un conflit en République Démocratique du Congo ou un pays frontalier. (disponible a http://www.sec.gov/about/laws/wallstreetreform-cpa.pdf)
B7: =OFFSET(L!$C$1,MATCH("Definitions"&ADDRESS(ROW(),COLUMN(),4),L!$A:$A,0)-1,SL,,) -> Pays concerné(s) | C7: =OFFSET(L!$C$1,MATCH("Definitions"&ADDRESS(ROW(),COLUMN(),4),L!$A:$A,0)-1,SL,,) -> Pays couvert (s) tel que défini dans le "Dodd–Frank Wall Street Reform and Consumer Protection Act", Section 1502(e)(4), loi des Etats-Unis d'Amérique de 2010: ces pays sont la République démocratique du Congo et les neuf pays avec lesquels elle partage une frontière internationalement reconnue: Angola, Burundi, République centrafricaine, République du Congo, Rwanda, Sud Soudan, Tanzanie, Ouganda, Zambie.
B8: =OFFSET(L!$C$1,MATCH("Definitions"&ADDRESS(ROW(),COLUMN(),4),L!$A:$A,0)-1,SL,,) -> Périmètre de la Déclaration | C8: =OFFSET(L!$C$1,MATCH("Definitions"&ADDRESS(ROW(),COLUMN(),4),L!$A:$A,0)-1,SL,,) -> Dans ce formulaire, le "Périmètre" décrit le domaine dans lequel les informations fournies par l'entreprise le complétant sont applicables. Le périmètre peut englober l'ensemble des services et / ou produits de l'entreprise, ou, à la discrétion de l'entreprise, le formulaire peut être utilisé pour un (des) produit(s) spécifique(s), ou être "défini par l'utilisateur". Le périmètre "défini par l'utilisateur" peut décrire n'importe quelle partie des opérations ou du portefeuille de produits de l'entreprise.
B9: =OFFSET(L!$C$1,MATCH("Definitions"&ADDRESS(ROW(),COLUMN(),4),L!$A:$A,0)-1,SL,,) -> Dodd-Frank | C9: =OFFSET(L!$C$1,MATCH("Definitions"&ADDRESS(ROW(),COLUMN(),4),L!$A:$A,0)-1,SL,,) -> Loi Dodd-Frank des Etats-Unis d'Amérique de 2010 sur la Réforme de Wall Street et la protection des consommateurs, Section 1502 ("Dodd-Frank") (http://www.sec.gov/about/laws/wallstreetreform-cpa.pdf)
B10: =OFFSET(L!$C$1,MATCH("Definitions"&ADDRESS(ROW(),COLUMN(),4),L!$A:$A,0)-1,SL,,) -> RDC | C10: =OFFSET(L!$C$1,MATCH("Definitions"&ADDRESS(ROW(),COLUMN(),4),L!$A:$A,0)-1,SL,,) -> République Démocratique du Congo
B11: =OFFSET(L!$C$1,MATCH("Definitions"&ADDRESS(ROW(),COLUMN(),4),L!$A:$A,0)-1,SL,,) -> RDC Sans Conflit | C11: =OFFSET(L!$C$1,MATCH("Definitions"&ADDRESS(ROW(),COLUMN(),4),L!$A:$A,0)-1,SL,,) -> Les produits ne contenant pas de minerais qui finançant ou bénéficiant directement ou indirectement à des groupes armés de la République Démocratique du Congo ou de pays frontaliers. Loi Dodd-Frank des Etats-Unis d'Amérique de 2010 sur la Réforme de Wall Street et la protection des consommateurs, Section 1502 ("Dodd-Frank") (http://www.sec.gov/about/laws/wallstreetreform-cpa.pdf)
B12: =OFFSET(L!$C$1,MATCH("Definitions"&ADDRESS(ROW(),COLUMN(),4),L!$A:$A,0)-1,SL,,) -> Fonderie d'or | C12: =OFFSET(L!$C$1,MATCH("Definitions"&ADDRESS(ROW(),COLUMN(),4),L!$A:$A,0)-1,SL,,) -> Fondre de l'or est une opération métallurgique produisant de l'or fin avec une concentration de 99,5% ou plus à partir d'or ou de matériaux comprenant de l'or en concentrations plus faibles. Reportez-vous au protocole de vérification de ce métal du RMAP pour une description complète: https://www.responsiblemineralsinitiative.org/minerals-due-diligence/standards/.
B13: =OFFSET(L!$C$1,MATCH("Definitions"&ADDRESS(ROW(),COLUMN(),4),L!$A:$A,0)-1,SL,,) -> Cabinet d'audit indépendant du secteur privé | C13: =OFFSET(L!$C$1,MATCH("Definitions"&ADDRESS(ROW(),COLUMN(),4),L!$A:$A,0)-1,SL,,) -> En ce qui concerne les audits de fonderies, un "cabinet d'audit indépendant du secteur privé" est une entreprise privée compétente pour évaluer la traçabilité des matériaux utilisés par un fondeur ou un affineur par rapport aux normes du RMAP ou de protocoles d'audit équivalents. Pour être neutre et impartiale, cette organisation et ses auditeurs ne doivent avoir aucun conflit d'intérêt avec l'audité.
... B31: =OFFSET(L!$C$1,MATCH("Definitions"&ADDRESS(ROW(),COLUMN(),4),L!$A:$A,0)-1,SL,,) -> Fonderie de tungstène | C31: =OFFSET(L!$C$1,MATCH("Definitions"&ADDRESS(ROW(),COLUMN(),4),L!$A:$A,0)-1,SL,,) -> Une fonderie de tungstène est une entreprise avec une ou plusieurs installations qui traite des minerais contenant du tungstène (tels que la wolframite et scheelite), des concentrés de tungstène, ou des déchets contenant du tungstène (matières secondaire) en matières intermédiaires contenant du tungstène tels que le paratungstate d'ammonium (APT), le metatungstate d'ammonium (AMT), le ferrotungstène et les oxydes de tungstène pour vente directe ou traitements additionels pour obtenir des produits à base d'étain (tels que la poudre d'étain ou de la poudre de carbure de tungstène). Référez-vous au protocole d'audit du RMAP pour ce métal pour une description complète: https://www.responsiblemineralsinitiative.org/minerals-due-diligence/standards/.
B32: =OFFSET(L!$C$1,MATCH("General"&"Cpy",L!$A:$A,0)-1,SL,,) -> © 2025 Responsible Minerals Initiative. All rights reserved.

Sheet Declaration
D2: =OFFSET(L!$C$1,MATCH("Declaration"&ADDRESS(ROW(),COLUMN(),4),L!$A:$A,0)-1,SL,,) -> Conflict Minerals Reporting Template (CMRT)
B3: Select Language Preference Here: 请选择你的语言: 사용할 언어를 선택하시오 : 表示言語をここから選択してください: Sélectionner la langue préférée ici: Selecione Preferência de idioma Aqui: Wählen sie hier die Sprache: Seleccione el lenguaje de preferencia aqui: Selezionare la lingua di preferenza qui: Burada Dil Tercihini Belirleyin: | D3: Français | J3: Revision 6.5 April 25, 2025 | P3: =MATCH($D$3,LN,0) -> 5
B4: =OFFSET(L!$C$1,MATCH("Declaration"&ADDRESS(ROW(),COLUMN(),4),L!$A:$A,0)-1,SL,,) -> Le but de ce document est de collecter des informations sur la provenance de l'étain, du tantale, du tungstène et de l'or utilisé dans les produits. | I4: =OFFSET(L!$C$1,MATCH("Declaration"&ADDRESS(ROW(),COLUMN(),4),L!$A:$A,0)-1,SL,,) -> Lien vers les Conditions générales
A5: =LEFT(D9,1) -> B
B6: =OFFSET(L!$C$1,MATCH("Declaration"&ADDRESS(ROW(),COLUMN(),4),L!$A:$A,0)-1,SL,,) -> Les champs obligatoires sont indiqués par un astérisque (*). Consultez l'onglet Instructions pour savoir comment répondre à chaque question.
B7: =OFFSET(L!$C$1,MATCH("Declaration"&ADDRESS(ROW(),COLUMN(),4),L!$A:$A,0)-1,SL,,) -> Informations sur l’entreprise
B8: =OFFSET(L!$C$1,MATCH("Declaration"&ADDRESS(ROW(),COLUMN(),4),L!$A:$A,0)-1,SL,,) -> Nom de l'entreprise (*): | D8: Lamineries MATTHEY,Branch of Notz Metall AG
B9: =OFFSET(L!$C$1,MATCH("Declaration"&ADDRESS(ROW(),COLUMN(),4),L!$A:$A,0)-1,SL,,) -> Périmètre de la déclaration (*): | D9: B. Product (or List of Products) | P9: A. Company | Q9: B. Product (or List of Products) | R9: C. User defined [Specify in 'Description of scope']
B10: =OFFSET(L!$C$1,MATCH("Declaration"&ADDRESS(ROW(),COLUMN(),4)&LEFT($D$9,1),L!$A:$A,0)-1,SL,,) -> Allez sur l'onglet "Liste des produits" pour saisir les produits auxquels cette déclaration s'applique
D11: =IF(D9=Q9,OFFSET(L!$C$1,MATCH("Declaration"&ADDRESS(ROW(),COLUMN(),4),L!$A:$A,0)-1,SL,,),"") -> Cliquez ici pour saisir les produits auxquels la présente déclaration s'applique
B12: =OFFSET(L!$C$1,MATCH("Declaration"&ADDRESS(ROW(),COLUMN(),4),L!$A:$A,0)-1,SL,,) -> Identifiant unique de l'entreprise:
B13: =OFFSET(L!$C$1,MATCH("Declaration"&ADDRESS(ROW(),COLUMN(),4),L!$A:$A,0)-1,SL,,) -> Autorité délivrant l'identifiant unique:
B14: =OFFSET(L!$C$1,MATCH("Declaration"&ADDRESS(ROW(),COLUMN(),4),L!$A:$A,0)-1,SL,,) -> Adresse: | D14: 38 Rue Montagu, CH-2520 LA Neuveville , SWITZERLAND
B15: =OFFSET(L!$C$1,MATCH("Declaration"&ADDRESS(ROW(),COLUMN(),4),L!$A:$A,0)-1,SL,,) -> Nom du contact (*): | D15: Aziz Ibzazene
B16: =OFFSET(L!$C$1,MATCH("Declaration"&ADDRESS(ROW(),COLUMN(),4),L!$A:$A,0)-1,SL,,) -> Email du contact (*): | D16: aziz.ibzazene@matthey.ch
B17: =OFFSET(L!$C$1,MATCH("Declaration"&ADDRESS(ROW(),COLUMN(),4),L!$A:$A,0)-1,SL,,) -> Téléphone du contact (*): | D17: +41 32 752 32 32
B18: =OFFSET(L!$C$1,MATCH("Declaration"&ADDRESS(ROW(),COLUMN(),4),L!$A:$A,0)-1,SL,,) -> Nom de la personne responsable de la déclaration (*): | D18: Claude Biselli
B19: =OFFSET(L!$C$1,MATCH("Declaration"&ADDRESS(ROW(),COLUMN(),4),L!$A:$A,0)-1,SL,,) -> Titre du représentant légal: | D19: Plant Manager
B20: =OFFSET(L!$C$1,MATCH("Declaration"&ADDRESS(ROW(),COLUMN(),4),L!$A:$A,0)-1,SL,,) -> Email du représentant légal (*): | D20: claude.besili@matthey.ch
B21: =OFFSET(L!$C$1,MATCH("Declaration"&ADDRESS(ROW(),COLUMN(),4),L!$A:$A,0)-1,SL,,) -> Téléphone du représentant légal: | D21: +41 32 752 32 32
B22: =OFFSET(L!$C$1,MATCH("Declaration"&ADDRESS(ROW(),COLUMN(),4),L!$A:$A,0)-1,SL,,) -> Date de la déclaration (*): | D22: 46281
B24: =OFFSET(L!$C$1,MATCH("Declaration"&ADDRESS(ROW(),COLUMN(),4),L!$A:$A,0)-1,SL,,) -> Répondre aux questions 1 à 8 suivantes pour le périmètre de la déclaration indiqué ci-dessus
B25: =OFFSET(L!$C$1,MATCH("Declaration"&ADDRESS(ROW(),COLUMN(),4),L!$A:$A,0)-1,SL,,) -> 1) Des 3TG sont-ils intentionnellement ajoutés ou utilisés dans le(s) produit(s) ou les processus de production ? (*) | D25: =OFFSET(L!$C$1,MATCH("Declaration"&ADDRESS(ROW(),COLUMN(),4),L!$A:$A,0)-1,SL,,) -> Réponse | G25: =OFFSET(L!$C$1,MATCH("Declaration"&ADDRESS(ROW(),COLUMN(),4),L!$A:$A,0)-1,SL,,) -> Commentaires
B26: =OFFSET(L!$C$1,MATCH("Declaration"&ADDRESS(ROW(),COLUMN(),4),L!$A:$A,0)-1,SL,,)&P26 -> Tantale | D26: No | P26: =IF(D$26="No","","(*)")
B27: =OFFSET(L!$C$1,MATCH("Declaration"&ADDRESS(ROW(),COLUMN(),4),L!$A:$A,0)-1,SL,,)&P27 -> Étain | D27: No | P27: =IF(D$27="No","","(*)")
B28: =OFFSET(L!$C$1,MATCH("Declaration"&ADDRESS(ROW(),COLUMN(),4),L!$A:$A,0)-1,SL,,)&P28 -> Or | D28: No | P28: =IF(D$28="No","","(*)")
B29: =OFFSET(L!$C$1,MATCH("Declaration"&ADDRESS(ROW(),COLUMN(),4),L!$A:$A,0)-1,SL,,)&P29 -> Tungstène (*) | D29: Yes | P29: =IF(D$29="No","","(*)") -> (*)
B31: =OFFSET(L!$C$1,MATCH("Declaration"&ADDRESS(ROW(),COLUMN(),4),L!$A:$A,0)-1,SL,,)&Q$37 -> 2) Reste-t-il des 3TG dans le(s) produit(s) ? (*) (*) | D31: =D25 -> Réponse | G31: =G25 -> Commentaires | P31: =COUNTIF(D$26:D$29,"No") -> 3 | Q31: =IF(P31=4,""," (*)") -> (*)
B32: =B26 -> Tantale | P32: =IF(D$32="No","","(*)") -> (*)
B33: =B27 -> Étain | P33: =IF(D$33="No","","(*)") -> (*)
B34: =B28 -> Or | P34: =IF(D$34="No","","(*)") -> (*)
B35: =B29 -> Tungstène (*) | D35: Yes | P35: =IF(D$35="No","","(*)") -> (*)
B37: =OFFSET(L!$C$1,MATCH("Declaration"&ADDRESS(ROW(),COLUMN(),4),L!$A:$A,0)-1,SL,,)&Q$37 -> 3) Est-ce qu’une des fonderies de votre chaîne d’approvisionnement s’approvisionne en 3TG à partir des pays couverts ? (terme SEC, consulter l’onglet des définitions) (*) | D37: =D25 -> Réponse | G37: =G25 -> Commentaires | P37: =COUNTIF(D$26:D$29,"No")+COUNTIF(D$32:D$35,"No") -> 3 | Q37: =IF(P37>3,""," (*)") -> (*)
B38: =OFFSET(L!$C$1,MATCH("Declaration"&ADDRESS(ROW(),COLUMN(),4),L!$A:$A,0)-1,SL,,)&P38 -> Tantale | P38: =IF((OR(D$26="No",D$32="No")),"","(*)")
B39: =OFFSET(L!$C$1,MATCH("Declaration"&ADDRESS(ROW(),COLUMN(),4),L!$A:$A,0)-1,SL,,)&P39 -> Étain | P39: =IF((OR(D$27="No",D$33="No")),"","(*)")
B40: =OFFSET(L!$C$1,MATCH("Declaration"&ADDRESS(ROW(),COLUMN(),4),L!$A:$A,0)-1,SL,,)&P40 -> Or | P40: =IF((OR(D$28="No",D$34="No")),"","(*)")
B41: =OFFSET(L!$C$1,MATCH("Declaration"&ADDRESS(ROW(),COLUMN(),4),L!$A:$A,0)-1,SL,,)&P41 -> Tungstène (*) | D41: No | P41: =IF((OR(D$29="No",D$35="No")),"","(*)") -> (*)
B43: =OFFSET(L!$C$1,MATCH("Declaration"&ADDRESS(ROW(),COLUMN(),4),L!$A:$A,0)-1,SL,,)&Q$37 -> 4) L’une des fonderies de votre chaîne d’approvisionnement se fournit-elle en 3TG auprès de zones touchées par des conflits et à haut risque ? (*) | D43: =D25 -> Réponse | G43: =G25 -> Commentaires | P43: =COUNTIF(D$26:D$29,"No")+COUNTIF(D$32:D$35,"No") -> 3 | Q43: =IF(P43>3,""," (*)") -> (*)
B44: =OFFSET(L!$C$1,MATCH("Declaration"&ADDRESS(ROW(),COLUMN(),4),L!$A:$A,0)-1,SL,,)&P44 -> Tantale | P44: =IF((OR(D$26="No",D$32="No")),"","(*)")
B45: =OFFSET(L!$C$1,MATCH("Declaration"&ADDRESS(ROW(),COLUMN(),4),L!$A:$A,0)-1,SL,,)&P45 -> Étain | P45: =IF((OR(D$27="No",D$33="No")),"","(*)")
...

Sheet Smelter List
U1: z
B2: =OFFSET(L!$C$1,MATCH("Smelter List"&ADDRESS(ROW(),COLUMN(),4),L!$A:$A,0)-1,SL,,) -> POUR COMMENCER : | J2: =OFFSET(L!$C$1,MATCH("Smelter List"&ADDRESS(ROW(),COLUMN(),4),L!$A:$A,0)-1,SL,,) -> Lien vers la liste des fonderies conformes au programme RMAP ("RMAP Conformant Smelter List") | AH2: Yes
B3: =OFFSET(L!$C$1,MATCH("Smelter List"&ADDRESS(ROW(),COLUMN(),4),L!$A:$A,0)-1,SL,,) -> Option A : Si vous connaissez le numéro d’identification de la fonderie, saisissez-le dans la colonne A (les colonnes B, C, E, F, G, I et J seront remplies automatiquement) ; la colonne D sera grisée. Option B : Si vous connaissez une combinaison de noms métal/fonderie figurant dans la Recherche de fonderie, effectuez les étapes suivantes : Étape 1. Sélectionnez le métal dans la colonne B Étape 2. Sélectionnez dans la liste déroulante de la colonne C (une mauvaise combinaison déclenche la couleur ROUGE) Option C : Si vous connaissez une combinaison métal/fonderie, effectuez les étapes suivantes : Étape 1. Sélectionnez le métal dans la colonne B Étape 2 : Sélectionnez « La fonderie ne figure pas dans la liste » dans la liste déroulante Recherche de fonderie, puis renseignez les colonnes D et E Étape 3. Saisissez toutes les informations disponibles sur la fonderie dans les colonnes H à Q (*) Les champs obligatoires sont indiqués par un astérisque. (1) Entrée obligatoire lorsque Recherche de fonderie = « La fonderie ne figure pas dans la liste » REMARQUE : Une combinaison des options A, B et C peut être utilisée pour remplir l’onglet Liste des fonderies. Ne modifiez pas les cellules remplies automatiquement. Toutes les erreurs figurant dans l'onglet Recherche de fonderie doivent être signalées à la RMI en contactant RMI@responsiblebusiness.org. | G3: =OFFSET(L!$C$1,MATCH("General"&"Cpy",L!$A:$A,0)-1,SL,,) -> © 2025 Responsible Minerals Initiative. All rights reserved. | Q3: Revision 6.5 April 25, 2025 | W3: Tantalum | X3: Tin | Y3: Tungsten | Z3: Gold | AH3: No
A4: =OFFSET(L!$C$1,MATCH("Smelter List"&ADDRESS(ROW(),COLUMN(),4),L!$A:$A,0)-1,SL,,) -> Colonne de saisie du numéro d’identification de la fonderie | B4: =OFFSET(L!$C$1,MATCH("Smelter List"&ADDRESS(ROW(),COLUMN(),4),L!$A:$A,0)-1,SL,,) -> Métal (*) | C4: =OFFSET(L!$C$1,MATCH("Smelter List"&ADDRESS(ROW(),COLUMN(),4),L!$A:$A,0)-1,SL,,) -> Recherche de fonderie (*) | D4: =OFFSET(L!$C$1,MATCH("Smelter List"&ADDRESS(ROW(),COLUMN(),4),L!$A:$A,0)-1,SL,,) -> Nom de la fonderie (1) | E4: =OFFSET(L!$C$1,MATCH("Smelter List"&ADDRESS(ROW(),COLUMN(),4),L!$A:$A,0)-1,SL,,) -> Localisation de la fonderie : Pays (*) | F4: =OFFSET(L!$C$1,MATCH("Smelter List"&ADDRESS(ROW(),COLUMN(),4),L!$A:$A,0)-1,SL,,) -> Identifiant de la fonderie | G4: =OFFSET(L!$C$1,MATCH("Smelter List"&ADDRESS(ROW(),COLUMN(),4),L!$A:$A,0)-1,SL,,) -> Type de l'identifiant de la fonderie | H4: =OFFSET(L!$C$1,MATCH("Smelter List"&ADDRESS(ROW(),COLUMN(),4),L!$A:$A,0)-1,SL,,) -> Localisation de la fonderie : Rue et Numéro | ... Q4: =OFFSET(L!$C$1,MATCH("Smelter List"&ADDRESS(ROW(),COLUMN(),4),L!$A:$A,0)-1,SL,,) -> Commentaires | R4: Standard Smelter Name | S4: Country Code | T4: State / Province Code | W4: Smelter not yet identified | X4: Smelter Not Listed | AH4: Unknown
A5: CID001182 | B5: Tin | C5: Minsur | E5: PERU | F5: CID001182 | G5: RMI | H5: 0 | I5: Paracas | J5: Ika | R5: Minsur | S5: PE | T5: PE-ICA | V5: 487 | X5: 0 | AB5: =B5&D5 -> Tin
A6: CID001898 | B6: Tin | C6: Thaisarco | E6: THAILAND | F6: CID001898 | G6: RMI | H6: 0 | I6: Amphur Muang | J6: Phuket | R6: Thaisarco | S6: TH | T6: TH-83 | V6: 547 | X6: 0 | AB6: =B6&C6 -> TinThaisarco
A7: CID001482 | B7: Tin | C7: PT Timah Tbk Mentok | E7: INDONESIA | F7: CID001482 | G7: RMI | H7: 0 | I7: Mentok | J7: Kepulauan Bangka Belitung | R7: PT Timah Tbk Mentok | S7: ID | T7: ID-BB | V7: 533 | X7: 0 | AB7: =B7&C7 -> TinPT Timah Tbk Mentok
A8: CID001477 | B8: Tin | C8: PT Timah Tbk Kundur | E8: INDONESIA | F8: CID001477 | G8: RMI | H8: 0 | I8: Kundur | J8: Riau | R8: PT Timah Tbk Kundur | S8: ID | T8: ID-RI | V8: 532 | X8: 0 | AB8: =B8&C8 -> TinPT Timah Tbk Kundur
A9: CID001337 | B9: Tin | C9: Operaciones Metalurgicas S.A. | E9: BOLIVIA (PLURINATIONAL STATE OF) | F9: CID001337 | G9: RMI | H9: 0 | I9: Oruro | J9: Oruro | R9: Operaciones Metalurgicas S.A. | S9: BO | T9: BO-O | V9: 499 | X9: 0 | AB9: =B9&C9 -> TinOperaciones Metalurgicas S.A.
A10: CID002315 | B10: Tungsten | C10: Ganzhou Jiangwu Ferrotungsten Co., Ltd. | E10: CHINA | F10: CID002315 | G10: RMI | H10: 0 | I10: Ganzhou | J10: Jiangxi Sheng | R10: Ganzhou Jiangwu Ferrotungsten Co., Ltd. | S10: CN | T10: CN-JX | V10: 601 | X10: 0 | AB10: =B10&C10 -> TungstenGanzhou Jiangwu Ferrotungsten Co., Ltd.
A11: CID002317 | B11: Tungsten | C11: Jiangxi Xinsheng Tungsten Industry Co., Ltd. | E11: CHINA | F11: CID002317 | G11: RMI | H11: 0 | I11: Ganzhou | J11: Jiangxi Sheng | R11: Jiangxi Xinsheng Tungsten Industry Co., Ltd. | S11: CN | T11: CN-JX | V11: 624 | X11: 0 | AB11: =B11&C11 -> TungstenJiangxi Xinsheng Tungsten Industry Co., Ltd.
A12: CID002320 | B12: Tungsten | C12: Xiamen Tungsten (H.C.) Co., Ltd. | E12: CHINA | F12: CID002320 | G12: 0 | H12: 0 | I12: Xiamen | J12: Fujian Sheng | R12: Xiamen Tungsten (H.C.) Co., Ltd. | S12: CN | T12: CN-FJ | V12: 658 | X12: 0 | AB12: =B12&C12 -> TungstenXiamen Tungsten (H.C.) Co., Ltd.
A13: CID000258 | B13: Tungsten | C13: Zhangyuan Tungsten Co Ltd | E13: CHINA | F13: CID000258 | G13: 0 | H13: 0 | I13: Ganzhou | J13: Jiangxi Sheng | R13: Chongyi Zhangyuan Tungsten Co., Ltd. | S13: CN | T13: CN-JX | V13: 661 | X13: 0 | AB13: =B13&C13 -> TungstenZhangyuan Tungsten Co Ltd
A14: CID004430 | B14: Tungsten | C14: Shinwon Tungsten (Fujian Shanghang) Co., Ltd. | E14: CHINA | F14: CID004430 | G14: 0 | H14: 0 | I14: Longyan | J14: Fujian Sheng | R14: Shinwon Tungsten (Fujian Shanghang) Co., Ltd. | S14: CN | T14: CN-FJ | V14: 649 | X14: 0 | AB14: =B14&C14 -> TungstenShinwon Tungsten (Fujian Shanghang) Co., Ltd.
A15: CID002502 | B15: Tungsten | C15: Asia Tungsten Products Vietnam Ltd. | E15: VIET NAM | F15: CID002502 | G15: RMI | H15: 0 | I15: Vinh Bao District | J15: Hai Phong | R15: Asia Tungsten Products Vietnam Ltd. | S15: VN | T15: VN-HP | V15: 587 | X15: 0 | AB15: =B15&C15 -> TungstenAsia Tungsten Products Vietnam Ltd.
A16: CID002551 | B16: Tungsten | C16: Jiangwu H.C. Starck Tungsten Products Co., Ltd. | E16: CHINA | F16: CID002551 | G16: RMI | H16: 0 | I16: Ganzhou | J16: Jiangxi Sheng | R16: Jiangwu H.C. Starck Tungsten Products Co., Ltd. | S16: CN | T16: CN-JX | V16: 620 | X16: 0 | AB16: =B16&C16 -> TungstenJiangwu H.C. Starck Tungsten Products Co., Ltd.
A17: CID003407 | B17: Tungsten | C17: Lianyou Metals Co., Ltd. | E17: TAIWAN, PROVINCE OF CHINA | F17: CID003407 | G17: RMI | H17: 0 | I17: Fangliao | J17: Pingtung | R17: Lianyou Metals Co., Ltd. | S17: TW | T17: TW-PIF | V17: 631 | X17: 0 | AB17: =B17&C17 -> TungstenLianyou Metals Co., Ltd.
A18: CID002318 | B18: Tungsten | C18: Jiangxi Tonggu Non-ferrous Metallurgical & Chemical Co., Ltd. | E18: CHINA | F18: CID002318 | G18: RMI | H18: 0 | I18: Tonggu | J18: Jiangxi Sheng | R18: Jiangxi Tonggu Non-ferrous Metallurgical & Chemical Co., Ltd. | S18: CN | T18: CN-JX | V18: 623 | X18: 0 | AB18: =B18&C18 -> TungstenJiangxi Tonggu Non-ferrous Metallurgical & Chemical Co., Ltd.
A19: CID002543 | B19: Tungsten | C19: Masan High-Tech Materials | E19: VIET NAM | F19: CID002543 | G19: RMI | H19: 0 | I19: Dai Tu | J19: Thái Nguyên | R19: Masan High-Tech Materials | S19: VN | T19: VN-69 | V19: 636 | X19: 0 | AB19: =B19&C19 -> TungstenMasan High-Tech Materials
A20: CID002082 | B20: Tungsten | C20: Xiamen Tungsten Co., Ltd. | E20: CHINA | F20: CID002082 | G20: 0 | H20: 0 | I20: Xiamen | J20: Fujian Sheng | R20: Xiamen Tungsten Co., Ltd. | S20: CN | T20: CN-FJ | V20: 659 | X20: 0 | AB20: =B20&C20 -> TungstenXiamen Tungsten Co., Ltd.
A21: CID003609 | B21: Tungsten | C21: Fujian Xinlu Tungsten Co., Ltd. | E21: CHINA | F21: CID003609 | G21: RMI | H21: 0 | I21: Longyan | J21: Fujian Sheng | R21: Fujian Xinlu Tungsten Co., Ltd. | S21: CN | T21: CN-FJ | V21: 600 | X21: 0 | AB21: =B21&C21 -> TungstenFujian Xinlu Tungsten Co., Ltd.
A22: CID000438 | B22: Tin | C22: EM Vinto | E22: BOLIVIA (PLURINATIONAL STATE OF) | F22: CID000438 | G22: RMI | H22: 0 | I22: Oruro | J22: Oruro | R22: EM Vinto | S22: BO | T22: BO-O | V22: 433 | X22: 0 | AB22: =B22&C22 -> TinEM Vinto
A23: CID001105 | B23: Tin | C23: Malaysia Smelting Corporation (MSC) | E23: MALAYSIA | F23: CID001105 | G23: RMI | H23: 0 | I23: Butterworth | J23: Pulau Pinang | R23: Malaysia Smelting Corporation (MSC) | S23: MY | T23: MY-07 | V23: 474 | X23: 0 | AB23: =B23&C23 -> TinMalaysia Smelting Corporation (MSC)
A24: CID001173 | B24: Tin | C24: Mineracao Taboca S.A. | E24: BRAZIL | F24: CID001173 | G24: RMI | H24: 0 | I24: Bairro Guarapiranga | J24: São Paulo | R24: Mineracao Taboca S.A. | S24: BR | T24: BR-SP | V24: 482 | X24: 0 | AB24: =B24&C24 -> TinMineracao Taboca S.A.
A25: CID001453 | B25: Tin | C25: PT Mitra Stania Prima | E25: INDONESIA | F25: CID001453 | G25: RMI | H25: 0 | I25: Sungailiat | J25: Kepulauan Bangka Belitung | R25: PT Mitra Stania Prima | S25: ID | T25: ID-BB | V25: 518 | X25: 0 | AB25: =B25&C25 -> TinPT Mitra Stania Prima
A26: CID002036 | B26: Tin | C26: White Solder Metalurgia e Mineracao Ltda. | E26: BRAZIL | F26: CID002036 | G26: RMI | H26: 0 | I26: Ariquemes | J26: Rondônia | R26: White Solder Metalurgia e Mineracao Ltda. | S26: BR | T26: BR-RO | V26: 556 | X26: 0 | AB26: =B26&C26 -> TinWhite Solder Metalurgia e Mineracao Ltda.
A27: CID002503 | B27: Tin | C27: PT ATD Makmur Mandiri Jaya | E27: INDONESIA | F27: CID002503 | G27: RMI | H27: 0 | I27: Sungailiat | J27: Kepulauan Bangka Belitung | R27: PT ATD Makmur Mandiri Jaya | S27: ID | T27: ID-BB | V27: 505 | X27: 0 | AB27: =B27&C27 -> TinPT ATD Makmur Mandiri Jaya
A28: CID002773 | B28: Tin | C28: Metallo Belgium N.V. | E28: BELGIUM | F28: CID002773 | G28: RMI | H28: 0 | I28: Beerse | J28: Antwerpen | R28: Aurubis Beerse | S28: BE | T28: BE-VAN | V28: 480 | X28: 0 | AB28: =B28&C28 -> TinMetallo Belgium N.V.
A29: CID003387 | B29: Tin | C29: Luna Smelter, Ltd. | E29: RWANDA | F29: CID003387 | G29: RMI | H29: 0 | I29: Kigali | J29: City of Kigali | R29: Luna Smelter, Ltd. | S29: RW | T29: RW-01 | V29: 471 | X29: 0 | AB29: =B29&C29 -> TinLuna Smelter, Ltd.
A30: CID003449 | B30: Tin | C30: PT Mitra Sukses Globalindo | E30: INDONESIA | F30: CID003449 | G30: RMI | H30: 0 | I30: Pangkalpinang | J30: Kepulauan Bangka Belitung | R30: PT Mitra Sukses Globalindo | S30: ID | T30: ID-BB | V30: 519 | X30: 0 | AB30: =B30&C30 -> TinPT Mitra Sukses Globalindo
A31: CID003325 | B31: Tin | C31: Tin Technology & Refining | E31: UNITED STATES OF AMERICA | F31: CID003325 | G31: RMI | H31: 0 | I31: West Chester | J31: Pennsylvania | R31: Tin Technology & Refining | S31: US | T31: US-PA | V31: 551 | X31: 0 | AB31: =B31&C31 -> TinTin Technology & Refining
A32: CID000468 | B32: Tin | C32: Fenix Metals | E32: POLAND | F32: CID000468 | G32: RMI | H32: 0 | I32: Chmielów | J32: Podkarpackie | R32: Fenix Metals | S32: PL | T32: PL-18 | V32: 442 | X32: 0 | AB32: =B32&C32 -> TinFenix Metals
... A52: CID002044 | B52: Tungsten | C52: Wolfram Bergbau und Hutten AG | E52: AUSTRIA | F52: CID002044 | G52: RMI | H52: 0 | I52: St. Martin i-S | J52: Steiermark | R52: Wolfram Bergbau und Hutten AG | S52: AT | T52: AT-6 | V52: 655 | X52: 0 | AB52: =B52&C52 -> TungstenWolfram Bergbau und Hutten AG
A53: CID000568 | B53: Tungsten | C53: Global Tungsten & Powders Corp. | E53: UNITED STATES OF AMERICA | F53: CID000568 | G53: RMI | H53: 0 | I53: Towanda | J53: Pennsylvania | S53: US | T53: US-PA | V53: #N/A | X53: 0 | AB53: =B53&C53 -> TungstenGlobal Tungsten & Powders Corp.
A54: CID002541 | B54: Tungsten | C54: H.C. Starck Tungsten GmbH | E54: GERMANY | F54: CID002541 | G54: RMI | H54: 0 | I54: Goslar | J54: Niedersachsen | R54: H.C. Starck Tungsten GmbH | S54: DE | T54: DE-NI | V54: 608 | X54: 0 | AB54: =B54&C54 -> TungstenH.C. Starck Tungsten GmbH
A55: CID002082 | B55: Tungsten | C55: Xiamen Tungsten Co., Ltd. | E55: CHINA | F55: CID002082 | G55: RMI | H55: 0 | I55: Xiamen | J55: Fujian Sheng | R55: Xiamen Tungsten Co., Ltd. | S55: CN | T55: CN-FJ | V55: 659 | X55: 0 | AB55: =B55&C55 -> TungstenXiamen Tungsten Co., Ltd.
A56: CID002320 | B56: Tungsten | C56: Xiamen Tungsten (H.C.) Co., Ltd. | E56: CHINA | F56: CID002320 | G56: RMI | H56: 0 | I56: Xiamen | J56: Fujian Sheng | R56: Xiamen Tungsten (H.C.) Co., Ltd. | S56: CN | T56: CN-FJ | V56: 658 | X56: 0 | AB56: =B56&C56 -> TungstenXiamen Tungsten (H.C.) Co., Ltd.
A57: CID000258 | B57: Tungsten | C57: Chongyi Zhangyuan Tungsten Co., Ltd. | E57: CHINA | F57: CID000258 | G57: RMI | H57: 0 | I57: Ganzhou | J57: Jiangxi Sheng | R57: Chongyi Zhangyuan Tungsten Co., Ltd. | S57: CN | T57: CN-JX | V57: 595 | X57: 0 | AB57: =B57&C57 -> TungstenChongyi Zhangyuan Tungsten Co., Ltd.
A58: CID002321 | B58: Tungsten | C58: Jiangxi Gan Bei Tungsten Co., Ltd. | E58: CHINA | F58: CID002321 | G58: RMI | H58: 0 | I58: Xiushui | J58: Jiangxi Sheng | R58: Jiangxi Gan Bei Tungsten Co., Ltd. | S58: CN | T58: CN-JX | V58: 621 | X58: 0 | AB58: =B58&C58 -> TungstenJiangxi Gan Bei Tungsten Co., Ltd.
A59: CID002513 | B59: Tungsten | C59: Hunan Shizhuyuan Nonferrous Metals Co., Ltd. Chenzhou Tungsten Products Branch | E59: CHINA | F59: CID002513 | G59: RMI | H59: 0 | I59: Chenzhou | J59: Hunan Sheng | R59: Hunan Shizhuyuan Nonferrous Metals Co., Ltd. Chenzhou Tungsten Products Branch | S59: CN | T59: CN-HN | V59: 617 | X59: 0 | AB59: =B59&C59 -> TungstenHunan Shizhuyuan Nonferrous Metals Co., Ltd. Chenzhou Tungsten Products Branch
...

Sheet Checker
A1: =OFFSET(L!$C$1,MATCH("Checker"&ADDRESS(ROW(),COLUMN(),4),L!$A:$A,0)-1,SL,,) -> Afin de s'assurer que tous les champs obligatoires ont été complétés avant de soumettre le document à vos clients, merci de vérifier tous les champs surlignés en rouge | D1: =OFFSET(L!$C$1,MATCH("Checker"&ADDRESS(ROW(),COLUMN(),4),L!$A:$A,0)-1,SL,,) -> Champs obligatoires non complétés
A2: Click here to return to Declaration tab | B2: #gid=1664813480 | C2: #gid=1118206067 | D2: =IF(H70=0,"0",H70) -> 0
A3: =OFFSET(L!$C$1,MATCH("Checker"&ADDRESS(ROW(),COLUMN(),4),L!$A:$A,0)-1,SL,,) -> Champs obligatoires | B3: =OFFSET(L!$C$1,MATCH("Checker"&ADDRESS(ROW(),COLUMN(),4),L!$A:$A,0)-1,SL,,) -> Réponse fournie | C3: =OFFSET(L!$C$1,MATCH("Checker"&ADDRESS(ROW(),COLUMN(),4),L!$A:$A,0)-1,SL,,) -> Remarques | D3: =OFFSET(L!$C$1,MATCH("Checker"&ADDRESS(ROW(),COLUMN(),4),L!$A:$A,0)-1,SL,,) -> Lien au document d'origine | F3: necessary? | G3: complete? | H3: incomplete | I3: comment1 | J3: comment for remaining
A4: =Declaration!B8 -> Nom de l'entreprise (*): | B4: =Declaration!D8 -> Lamineries MATTHEY,Branch of Notz Metall AG | C4: =IF(H4=1,J4,I4) -> Complétez | F4: 1 | G4: =IF(B4=0,1,0) -> 0 | H4: =F4*G4 -> 0 | I4: =OFFSET(L!$C$1,MATCH("Checker"&"Comp",L!$A:$A,0)-1,SL,,) -> Complétez | J4: =OFFSET(L!$C$1,MATCH("Checker"&ADDRESS(ROW(),COLUMN(),4),L!$A:$A,0)-1,SL,,) -> Indiquez le nom de votre entreprise dans la cellule D8 de l'onglet Déclaration
A5: =Declaration!B9 -> Périmètre de la déclaration (*): | B5: =Declaration!D9 -> B. Product (or List of Products) | C5: =IF(H5=1,J5,I5) -> Complétez | F5: 1 | G5: =IF(B5=0,1,0) -> 0 | H5: =F5*G5 -> 0 | I5: =OFFSET(L!$C$1,MATCH("Checker"&"Comp",L!$A:$A,0)-1,SL,,) -> Complétez | J5: =OFFSET(L!$C$1,MATCH("Checker"&ADDRESS(ROW(),COLUMN(),4),L!$A:$A,0)-1,SL,,) -> Sélectionnez le champ d'application de la déclaration dans la cellule D9 de l'onglet Déclaration
A6: =Declaration!B10 -> Allez sur l'onglet "Liste des produits" pour saisir les produits auxquels cette déclaration s'applique | B6: =Declaration!D10 -> 0 | C6: =IF(H6=1,J6,I6) -> Complétez | F6: =IF(OR(B5=Declaration!P9,B5=Declaration!Q9,B5=0),0,1) -> 0 | G6: =IF(B6=0,1,0) -> 1 | H6: =F6*G6 -> 0 | I6: =OFFSET(L!$C$1,MATCH("Checker"&"Comp",L!$A:$A,0)-1,SL,,) -> Complétez | J6: =OFFSET(L!$C$1,MATCH("Checker"&ADDRESS(ROW(),COLUMN(),4),L!$A:$A,0)-1,SL,,) -> Saisissez une description du champ d'application dans la cellule D10 de l'onglet Déclaration
A7: =Declaration!B15 -> Nom du contact (*): | B7: =Declaration!D15 -> Aziz Ibzazene | C7: =IF(H7=1,J7,I7) -> Complétez | F7: 1 | G7: =IF(B7=0,1,0) -> 0 | H7: =F7*G7 -> 0 | I7: =OFFSET(L!$C$1,MATCH("Checker"&"Comp",L!$A:$A,0)-1,SL,,) -> Complétez | J7: =OFFSET(L!$C$1,MATCH("Checker"&ADDRESS(ROW(),COLUMN(),4),L!$A:$A,0)-1,SL,,) -> Saisissez le nom de contact dans la cellule D15 de l'onglet Déclaration
A8: =Declaration!B16 -> Email du contact (*): | B8: =Declaration!D16 -> aziz.ibzazene@matthey.ch | C8: =IF(H8=1,J8,I8) -> Complétez | F8: 1 | G8: =IF(ISNUMBER(SEARCH("@",B8)),0,1) -> 0 | H8: =F8*G8 -> 0 | I8: =OFFSET(L!$C$1,MATCH("Checker"&"Comp",L!$A:$A,0)-1,SL,,) -> Complétez | J8: =OFFSET(L!$C$1,MATCH("Checker"&ADDRESS(ROW(),COLUMN(),4),L!$A:$A,0)-1,SL,,) -> Saisissez une adresse e-mail de contact valide dans la cellule D16 de l’onglet Déclaration
A9: =Declaration!B17 -> Téléphone du contact (*): | B9: =Declaration!D17 -> +41 32 752 32 32 | C9: =IF(H9=1,J9,I9) -> Complétez | F9: 1 | G9: =IF(B9=0,1,0) -> 0 | H9: =F9*G9 -> 0 | I9: =OFFSET(L!$C$1,MATCH("Checker"&"Comp",L!$A:$A,0)-1,SL,,) -> Complétez | J9: =OFFSET(L!$C$1,MATCH("Checker"&ADDRESS(ROW(),COLUMN(),4),L!$A:$A,0)-1,SL,,) -> Saisissez un numéro de téléphone de contact dans la cellule D17 de l'onglet Déclaration
A10: =Declaration!B18 -> Nom de la personne responsable de la déclaration (*): | B10: =Declaration!D18 -> Claude Biselli | C10: =IF(H10=1,J10,I10) -> Complétez | F10: 1 | G10: =IF(B10=0,1,0) -> 0 | H10: =F10*G10 -> 0 | I10: =OFFSET(L!$C$1,MATCH("Checker"&"Comp",L!$A:$A,0)-1,SL,,) -> Complétez | J10: =OFFSET(L!$C$1,MATCH("Checker"&ADDRESS(ROW(),COLUMN(),4),L!$A:$A,0)-1,SL,,) -> Saisissez le nom de contact du représentant agréé de l'entreprise dans la cellule D18 de l'onglet Déclaration
